Workbook

Sheet obliczenia_efekt_PM10
A1: Rodzaj działania | B1: Koszt inwestycyjny jednostkowy [zł/mieszk] | C1: Koszt inwestycyjny jednostkowy [zł/m2] (śr. 60 m2/mieszk.) | D1: Emisja PM10 przed [kg/ m2] | E1: Emisja PM10 po [kg/m2] | F1: Efekt ekolog. [kg/m2] | G1: Efekt/koszt inw. [kg/100 zł] | H1: Udział mieszkań objętych działaniem [%] | I1: Powierzchnia objęta działaniem [m2] | J1: Całk. efekt ekolog [kg/r] | K1: Całk. efekt ekolog [%] | L1: Całkowity koszt inwestycyjny [tys.zł]
A2: pełne ocieplenie mieszkania o dużych stratach ciepła | B2: 20000 | C2: =B2/60 -> 333.33333 | D2: =termomodernizacja!H20 -> #DIV/0! | E2: =termomodernizacja!H18 -> #DIV/0! | F2: =D2-E2 -> #DIV/0! | G2: =F2/C2*100 -> #DIV/0! | I2: =H2*termomodernizacja!D20 -> 0 | J2: =F2*I2 -> #DIV/0! | K2: =J2/'źródła ciepła'!F9 -> #DIV/0! | L2: =C2*I2/1000 -> 0
A3: częściowe ocieplenie mieszkania o dużych stratach ciepła | B3: 10000 | C3: =B3/60 -> 166.66667 | D3: =termomodernizacja!H20 -> #DIV/0! | E3: =termomodernizacja!H19 -> #DIV/0! | F3: =D3-E3 -> #DIV/0! | G3: =F3/C3*100 -> #DIV/0! | I3: =H3*termomodernizacja!D20 -> 0 | J3: =F3*I3 -> #DIV/0! | K3: =J3/'źródła ciepła'!F9 -> #DIV/0! | L3: =C3*I3/1000 -> 0
A4: podłączenie mieszkania do nitki ciepłowniczej lub wyposażenie w ogrzewanie elektryczne | B4: 10000 | C4: =B4/60 -> 166.66667 | D4: ='źródła ciepła'!G8 -> #DIV/0! | E4: ='źródła ciepła'!G2 -> #DIV/0! | F4: =D4-E4 -> #DIV/0! | G4: =F4/C4*100 -> #DIV/0! | I4: =H4*'źródła ciepła'!C8 -> 0 | J4: =F4*I4 -> #DIV/0! | K4: =J4/'źródła ciepła'!F9 -> #DIV/0! | L4: =C4*I4/1000 -> 0
A5: wyposażenie mieszkania w kocioł węglowy automatyczny (retortowy) | B5: 12000 | C5: =B5/60 -> 200 | D5: ='źródła ciepła'!G8 -> #DIV/0! | E5: ='źródła ciepła'!G3 -> #DIV/0! | F5: =D5-E5 -> #DIV/0! | G5: =F5/C5*100 -> #DIV/0! | I5: =H5*'źródła ciepła'!C8 -> 0 | J5: =F5*I5 -> #DIV/0! | K5: =J5/'źródła ciepła'!F9 -> #DIV/0! | L5: =C5*I5/1000 -> 0
A6: wyposażenie mieszkania w kocioł peletowy automatyczny (retortowy) | B6: 12000 | C6: =B6/60 -> 200 | D6: ='źródła ciepła'!G8 -> #DIV/0! | E6: ='źródła ciepła'!G4 -> #DIV/0! | F6: =D6-E6 -> #DIV/0! | G6: =F6/C6*100 -> #DIV/0! | I6: =H6*'źródła ciepła'!C8 -> 0 | K6: =J6/'źródła ciepła'!F9 -> #DIV/0! | L6: =C6*I6/1000 -> 0
A7: wyposażenie mieszkania w kocioł nowego typu (zasypowy) | B7: 8000 | C7: =B7/60 -> 133.33333 | D7: ='źródła ciepła'!G8 -> #DIV/0! | E7: ='źródła ciepła'!G5 -> #DIV/0! | F7: =D7-E7 -> #DIV/0! | G7: =F7/C7*100 -> #DIV/0! | I7: =H7*'źródła ciepła'!C8 -> 0 | J7: =F7*I7 -> #DIV/0! | K7: =J7/'źródła ciepła'!F9 -> #DIV/0! | L7: =C7*I7/1000 -> 0
A8: wyposażenie mieszkania w kocioł gazowy | B8: 15000 | C8: =B8/60 -> 250 | D8: ='źródła ciepła'!G8 -> #DIV/0! | E8: ='źródła ciepła'!G6 -> #DIV/0! | F8: =D8-E8 -> #DIV/0! | G8: =F8/C8*100 -> #DIV/0! | I8: =H8*'źródła ciepła'!C8 -> 0 | J8: =F8*I8 -> #DIV/0! | K8: =J8/'źródła ciepła'!F9 -> #DIV/0! | L8: =C8*I8/1000 -> 0
A9: wyposażenie mieszkania w kocioł olejowy | B9: 18000 | C9: =B9/60 -> 300 | D9: ='źródła ciepła'!G8 -> #DIV/0! | E9: ='źródła ciepła'!G7 -> #DIV/0! | F9: =D9-E9 -> #DIV/0! | G9: =F9/C9*100 -> #DIV/0! | I9: =H9*'źródła ciepła'!C8 -> 0 | J9: =F9*I9 -> #DIV/0! | K9: =J9/'źródła ciepła'!F9 -> #DIV/0! | L9: =C9*I9/1000 -> 0
A10: Razem | I10: =SUM(I2:I9) -> 0 | J10: =SUM(J2:J9) -> #DIV/0! | K10: =SUM(K2:K9) -> #DIV/0! | L10: =SUM(L2:L9) -> 0
A11: Koszt inwestycyjny zredukowania emisji PM10 o 1kg/r [zł] | K11: =L10/J10*1000 -> #DIV/0!

Sheet obliczenia_efekt_PM2,5
A1: Rodzaj działania | B1: Koszt inwestycyjny jednostkowy [zł/mieszk] | C1: Koszt inwestycyjny jednostkowy [zł/m2] (śr. 60 m2/mieszk.) | D1: Emisja PM2,5 przed [kg/ m2] | E1: Emisja PM2,5 po [kg/m2] | F1: Efekt ekolog. [kg/m2] | G1: Efekt/koszt inw. [kg/100 zł] | H1: Udział mieszkań objętych działaniem [%] | I1: Powierzchnia objęta działaniem [m2] | J1: Całk. efekt ekolog [kg/r] | K1: Całk. efekt ekolog [%] | L1: Całkowity koszt inwestycyjny [tys.zł]
A2: pełne ocieplenie mieszkania o dużych stratach ciepła | B2: 20000 | C2: =B2/60 -> 333.33333 | D2: =termomodernizacja!J20 -> #DIV/0! | E2: =termomodernizacja!J18 -> #DIV/0! | F2: =D2-E2 -> #DIV/0! | G2: =F2/C2*100 -> #DIV/0! | I2: =H2*termomodernizacja!D20 -> 0 | J2: =F2*I2 -> #DIV/0! | K2: =J2/'źródła ciepła'!I9 -> #DIV/0! | L2: =C2*I2/1000 -> 0
A3: częściowe ocieplenie mieszkania o dużych stratach ciepła | B3: 10000 | C3: =B3/60 -> 166.66667 | D3: =termomodernizacja!J20 -> #DIV/0! | E3: =termomodernizacja!J19 -> #DIV/0! | F3: =D3-E3 -> #DIV/0! | G3: =F3/C3*100 -> #DIV/0! | I3: =H3*termomodernizacja!D20 -> 0 | J3: =F3*I3 -> #DIV/0! | K3: =J3/'źródła ciepła'!I9 -> #DIV/0! | L3: =C3*I3/1000 -> 0
A4: podłączenie mieszkania do nitki ciepłowniczej lub wyposażenie w ogrzewanie elektryczne | B4: 10000 | C4: =B4/60 -> 166.66667 | D4: ='źródła ciepła'!J8 -> #DIV/0! | E4: ='źródła ciepła'!J2 -> #DIV/0! | F4: =D4-E4 -> #DIV/0! | G4: =F4/C4*100 -> #DIV/0! | I4: =H4*'źródła ciepła'!C8 -> 0 | J4: =F4*I4 -> #DIV/0! | K4: =J4/'źródła ciepła'!I9 -> #DIV/0! | L4: =C4*I4/1000 -> 0
A5: wyposażenie mieszkania w kocioł węglowy automatyczny (retortowy) | B5: 12000 | C5: =B5/60 -> 200 | D5: ='źródła ciepła'!J8 -> #DIV/0! | E5: ='źródła ciepła'!J3 -> #DIV/0! | F5: =D5-E5 -> #DIV/0! | G5: =F5/C5*100 -> #DIV/0! | I5: =H5*'źródła ciepła'!C8 -> 0 | J5: =F5*I5 -> #DIV/0! | K5: =J5/'źródła ciepła'!I9 -> #DIV/0! | L5: =C5*I5/1000 -> 0
A6: wyposażenie mieszkania w kocioł peletowy automatyczny (retortowy) | B6: 12000 | C6: =B6/60 -> 200 | D6: ='źródła ciepła'!J8 -> #DIV/0! | E6: ='źródła ciepła'!J4 -> #DIV/0! | F6: =D6-E6 -> #DIV/0! | G6: =F6/C6*100 -> #DIV/0! | I6: =H6*'źródła ciepła'!C8 -> 0 | K6: =J6/'źródła ciepła'!I9 -> #DIV/0! | L6: =C6*I6/1000 -> 0
A7: wyposażenie mieszkania w kocioł nowego typu (zasypowy) | B7: 8000 | C7: =B7/60 -> 133.33333 | D7: ='źródła ciepła'!J8 -> #DIV/0! | E7: ='źródła ciepła'!J5 -> #DIV/0! | F7: =D7-E7 -> #DIV/0! | G7: =F7/C7*100 -> #DIV/0! | I7: =H7*'źródła ciepła'!C8 -> 0 | J7: =F7*I7 -> #DIV/0! | K7: =J7/'źródła ciepła'!I9 -> #DIV/0! | L7: =C7*I7/1000 -> 0
A8: wyposażenie mieszkania w kocioł gazowy | B8: 15000 | C8: =B8/60 -> 250 | D8: ='źródła ciepła'!J8 -> #DIV/0! | E8: ='źródła ciepła'!J6 -> #DIV/0! | F8: =D8-E8 -> #DIV/0! | G8: =F8/C8*100 -> #DIV/0! | I8: =H8*'źródła ciepła'!C8 -> 0 | J8: =F8*I8 -> #DIV/0! | K8: =J8/'źródła ciepła'!I9 -> #DIV/0! | L8: =C8*I8/1000 -> 0
A9: wyposażenie mieszkania w kocioł olejowy | B9: 18000 | C9: =B9/60 -> 300 | D9: ='źródła ciepła'!J8 -> #DIV/0! | E9: ='źródła ciepła'!J7 -> #DIV/0! | F9: =D9-E9 -> #DIV/0! | G9: =F9/C9*100 -> #DIV/0! | I9: =H9*'źródła ciepła'!C8 -> 0 | J9: =F9*I9 -> #DIV/0! | K9: =J9/'źródła ciepła'!I9 -> #DIV/0! | L9: =C9*I9/1000 -> 0
A10: Razem | I10: =SUM(I2:I9) -> 0 | J10: =SUM(J2:J9) -> #DIV/0! | K10: =SUM(K2:K9) -> #DIV/0! | L10: =SUM(L2:L9) -> 0
A11: Koszt inwestycyjny zredukowania emisji PM2,5 o 1kg/r [zł] | K11: =L10/J10*1000 -> #DIV/0!

Sheet obliczenia_efekt_B(a)P
A1: Rodzaj działania | B1: Koszt inwestycyjny jednostkowy [zł/mieszk] | C1: Koszt inwestycyjny jednostkowy [zł/m2] (śr. 60 m2/mieszk.) | D1: Emisja B(a)P przed [kg/ m2] | E1: Emisja B(a)P po [kg/m2] | F1: Efekt ekolog. [kg/m2] | G1: Efekt/koszt inw. [kg/100 zł] | H1: Udział mieszkań objętych działaniem [%] | I1: Powierzchnia objęta działaniem [m2] | J1: Całk. efekt ekolog [kg/r] | K1: Całk. efekt ekolog [%] | L1: Całkowity koszt inwestycyjny [tys.zł]
A2: pełne ocieplenie mieszkania o dużych stratach ciepła | B2: 20000 | C2: =B2/60 -> 333.33333 | D2: =termomodernizacja!L20 -> #DIV/0! | E2: =termomodernizacja!L18 -> #DIV/0! | F2: =D2-E2 -> #DIV/0! | G2: =F2/C2*100 -> #DIV/0! | I2: =H2*termomodernizacja!D20 -> 0 | J2: =F2*I2 -> #DIV/0! | K2: =J2/'źródła ciepła'!L9 -> #DIV/0! | L2: =C2*I2/1000 -> 0
A3: częściowe ocieplenie mieszkania o dużych stratach ciepła | B3: 10000 | C3: =B3/60 -> 166.66667 | D3: =termomodernizacja!L20 -> #DIV/0! | E3: =termomodernizacja!L19 -> #DIV/0! | F3: =D3-E3 -> #DIV/0! | G3: =F3/C3*100 -> #DIV/0! | I3: =H3*termomodernizacja!D20 -> 0 | J3: =F3*I3 -> #DIV/0! | K3: =J3/'źródła ciepła'!L9 -> #DIV/0! | L3: =C3*I3/1000 -> 0
A4: podłączenie mieszkania do nitki ciepłowniczej lub wyposażenie w ogrzewanie elektryczne | B4: 10000 | C4: =B4/60 -> 166.66667 | D4: ='źródła ciepła'!M8 -> #DIV/0! | E4: ='źródła ciepła'!M2 -> #DIV/0! | F4: =D4-E4 -> #DIV/0! | G4: =F4/C4*100 -> #DIV/0! | I4: =H4*'źródła ciepła'!C8 -> 0 | J4: =F4*I4 -> #DIV/0! | K4: =J4/'źródła ciepła'!L9 -> #DIV/0! | L4: =C4*I4/1000 -> 0
A5: wyposażenie mieszkania w kocioł węglowy automatyczny (retortowy) | B5: 12000 | C5: =B5/60 -> 200 | D5: ='źródła ciepła'!M8 -> #DIV/0! | E5: ='źródła ciepła'!M3 -> #DIV/0! | F5: =D5-E5 -> #DIV/0! | G5: =F5/C5*100 -> #DIV/0! | I5: =H5*'źródła ciepła'!C8 -> 0 | J5: =F5*I5 -> #DIV/0! | K5: =J5/'źródła ciepła'!L9 -> #DIV/0! | L5: =C5*I5/1000 -> 0
A6: wyposażenie mieszkania w kocioł peletowy automatyczny (retortowy) | B6: 12000 | C6: =B6/60 -> 200 | D6: ='źródła ciepła'!M8 -> #DIV/0! | E6: ='źródła ciepła'!M4 -> #DIV/0! | F6: =D6-E6 -> #DIV/0! | G6: =F6/C6*100 -> #DIV/0! | I6: =H6*'źródła ciepła'!C8 -> 0 | K6: =J6/'źródła ciepła'!L9 -> #DIV/0! | L6: =C6*I6/1000 -> 0
A7: wyposażenie mieszkania w kocioł nowego typu (zasypowy) | B7: 8000 | C7: =B7/60 -> 133.33333 | D7: ='źródła ciepła'!M8 -> #DIV/0! | E7: ='źródła ciepła'!M5 -> #DIV/0! | F7: =D7-E7 -> #DIV/0! | G7: =F7/C7*100 -> #DIV/0! | I7: =H7*'źródła ciepła'!C8 -> 0 | J7: =F7*I7 -> #DIV/0! | K7: =J7/'źródła ciepła'!L9 -> #DIV/0! | L7: =C7*I7/1000 -> 0
A8: wyposażenie mieszkania w kocioł gazowy | B8: 15000 | C8: =B8/60 -> 250 | D8: ='źródła ciepła'!M8 -> #DIV/0! | E8: ='źródła ciepła'!M6 -> #DIV/0! | F8: =D8-E8 -> #DIV/0! | G8: =F8/C8*100 -> #DIV/0! | I8: =H8*'źródła ciepła'!C8 -> 0 | J8: =F8*I8 -> #DIV/0! | K8: =J8/'źródła ciepła'!L9 -> #DIV/0! | L8: =C8*I8/1000 -> 0
A9: wyposażenie mieszkania w kocioł olejowy | B9: 18000 | C9: =B9/60 -> 300 | D9: ='źródła ciepła'!M8 -> #DIV/0! | E9: ='źródła ciepła'!M7 -> #DIV/0! | F9: =D9-E9 -> #DIV/0! | G9: =F9/C9*100 -> #DIV/0! | I9: =H9*'źródła ciepła'!C8 -> 0 | J9: =F9*I9 -> #DIV/0! | K9: =J9/'źródła ciepła'!L9 -> #DIV/0! | L9: =C9*I9/1000 -> 0
A10: Razem | I10: =SUM(I2:I9) -> 0 | J10: =SUM(J2:J9) -> #DIV/0! | K10: =SUM(K2:K9) -> #DIV/0! | L10: =SUM(L2:L9) -> 0
A11: Koszt inwestycyjny zredukowania emisji B(a)P o 1kg/r [zł] | K11: =L10/J10*1000 -> #DIV/0!

Sheet obliczenia_efekt_NO2
A1: Rodzaj działania | B1: Koszt inwestycyjny jednostkowy [zł/mieszk] | C1: Koszt inwestycyjny jednostkowy [zł/m2] (śr. 60 m2/mieszk.) | D1: Emisja NO2 przed [kg/ m2] | E1: Emisja NO2 po [kg/m2] | F1: Efekt ekolog. [kg/m2] | G1: Efekt/koszt inw. [kg/100 zł] | H1: Udział mieszkań objętych działaniem [%] | I1: Powierzchnia objęta działaniem [m2] | J1: Całk. efekt ekolog [kg/r] | K1: Całk. efekt ekolog [%] | L1: Całkowity koszt inwestycyjny [tys.zł]
A2: pełne ocieplenie mieszkania o dużych stratach ciepła | B2: 20000 | C2: =B2/60 -> 333.33333 | D2: =termomodernizacja!N20 -> #DIV/0! | E2: =termomodernizacja!N18 -> #DIV/0! | F2: =D2-E2 -> #DIV/0! | G2: =F2/C2*100 -> #DIV/0! | I2: =H2*termomodernizacja!D20 -> 0 | J2: =F2*I2 -> #DIV/0! | K2: =J2/'źródła ciepła'!O9 -> #DIV/0! | L2: =C2*I2/1000 -> 0
A3: częściowe ocieplenie mieszkania o dużych stratach ciepła | B3: 10000 | C3: =B3/60 -> 166.66667 | D3: =termomodernizacja!N20 -> #DIV/0! | E3: =termomodernizacja!N19 -> #DIV/0! | F3: =D3-E3 -> #DIV/0! | G3: =F3/C3*100 -> #DIV/0! | I3: =H3*termomodernizacja!D20 -> 0 | J3: =F3*I3 -> #DIV/0! | K3: =J3/'źródła ciepła'!O9 -> #DIV/0! | L3: =C3*I3/1000 -> 0
A4: podłączenie mieszkania do nitki ciepłowniczej lub wyposażenie w ogrzewanie elektryczne | B4: 10000 | C4: =B4/60 -> 166.66667 | D4: ='źródła ciepła'!P8 -> #DIV/0! | E4: ='źródła ciepła'!P2 -> #DIV/0! | F4: =D4-E4 -> #DIV/0! | G4: =F4/C4*100 -> #DIV/0! | I4: =H4*'źródła ciepła'!C8 -> 0 | J4: =F4*I4 -> #DIV/0! | K4: =J4/'źródła ciepła'!O9 -> #DIV/0! | L4: =C4*I4/1000 -> 0
A5: wyposażenie mieszkania w kocioł węglowy automatyczny (retortowy) | B5: 12000 | C5: =B5/60 -> 200 | D5: ='źródła ciepła'!P8 -> #DIV/0! | E5: ='źródła ciepła'!P3 -> #DIV/0! | F5: =D5-E5 -> #DIV/0! | G5: =F5/C5*100 -> #DIV/0! | I5: =H5*'źródła ciepła'!C8 -> 0 | J5: =F5*I5 -> #DIV/0! | K5: =J5/'źródła ciepła'!O9 -> #DIV/0! | L5: =C5*I5/1000 -> 0
A6: wyposażenie mieszkania w kocioł peletowy automatyczny (retortowy) | B6: 12000 | C6: =B6/60 -> 200 | D6: ='źródła ciepła'!P8 -> #DIV/0! | E6: ='źródła ciepła'!P4 -> #DIV/0! | F6: =D6-E6 -> #DIV/0! | G6: =F6/C6*100 -> #DIV/0! | I6: =H6*'źródła ciepła'!C8 -> 0 | K6: =J6/'źródła ciepła'!O9 -> #DIV/0! | L6: =C6*I6/1000 -> 0
A7: wyposażenie mieszkania w kocioł nowego typu (zasypowy) | B7: 8000 | C7: =B7/60 -> 133.33333 | D7: ='źródła ciepła'!P8 -> #DIV/0! | E7: ='źródła ciepła'!P5 -> #DIV/0! | F7: =D7-E7 -> #DIV/0! | G7: =F7/C7*100 -> #DIV/0! | I7: =H7*'źródła ciepła'!C8 -> 0 | J7: =F7*I7 -> #DIV/0! | K7: =J7/'źródła ciepła'!O9 -> #DIV/0! | L7: =C7*I7/1000 -> 0
A8: wyposażenie mieszkania w kocioł gazowy | B8: 15000 | C8: =B8/60 -> 250 | D8: ='źródła ciepła'!P8 -> #DIV/0! | E8: ='źródła ciepła'!P6 -> #DIV/0! | F8: =D8-E8 -> #DIV/0! | G8: =F8/C8*100 -> #DIV/0! | I8: =H8*'źródła ciepła'!C8 -> 0 | J8: =F8*I8 -> #DIV/0! | K8: =J8/'źródła ciepła'!O9 -> #DIV/0! | L8: =C8*I8/1000 -> 0
A9: wyposażenie mieszkania w kocioł olejowy | B9: 18000 | C9: =B9/60 -> 300 | D9: ='źródła ciepła'!P8 -> #DIV/0! | E9: ='źródła ciepła'!P7 -> #DIV/0! | F9: =D9-E9 -> #DIV/0! | G9: =F9/C9*100 -> #DIV/0! | I9: =H9*'źródła ciepła'!C8 -> 0 | J9: =F9*I9 -> #DIV/0! | K9: =J9/'źródła ciepła'!O9 -> #DIV/0! | L9: =C9*I9/1000 -> 0
A10: Razem | I10: =SUM(I2:I9) -> 0 | J10: =SUM(J2:J9) -> #DIV/0! | K10: =SUM(K2:K9) -> #DIV/0! | L10: =SUM(L2:L9) -> 0
A11: Koszt inwestycyjny zredukowania emisji NO2 o 1kg/r [zł] | K11: =L10/J10*1000 -> #DIV/0!

Sheet obliczenia_efekt_SO2
A1: Rodzaj działania | B1: Koszt inwestycyjny jednostkowy [zł/mieszk] | C1: Koszt inwestycyjny jednostkowy [zł/m2] (śr. 60 m2/mieszk.) | D1: Emisja SO2 przed [kg/ m2] | E1: Emisja SO2 po [kg/m2] | F1: Efekt ekolog. [kg/m2] | G1: Efekt/koszt inw. [kg/100 zł] | H1: Udział mieszkań objętych działaniem [%] | I1: Powierzchnia objęta działaniem [m2] | J1: Całk. efekt ekolog [kg/r] | K1: Całk. efekt ekolog [%] | L1: Całkowity koszt inwestycyjny [tys.zł]
A2: pełne ocieplenie mieszkania o dużych stratach ciepła | B2: 20000 | C2: =B2/60 -> 333.33333 | D2: =termomodernizacja!P20 -> #DIV/0! | E2: =termomodernizacja!P18 -> #DIV/0! | F2: =D2-E2 -> #DIV/0! | G2: =F2/C2*100 -> #DIV/0! | I2: =H2*termomodernizacja!D20 -> 0 | J2: =F2*I2 -> #DIV/0! | K2: =J2/'źródła ciepła'!R9 -> #DIV/0! | L2: =C2*I2/1000 -> 0
A3: częściowe ocieplenie mieszkania o dużych stratach ciepła | B3: 10000 | C3: =B3/60 -> 166.66667 | D3: =termomodernizacja!P20 -> #DIV/0! | E3: =termomodernizacja!P19 -> #DIV/0! | F3: =D3-E3 -> #DIV/0! | G3: =F3/C3*100 -> #DIV/0! | I3: =H3*termomodernizacja!D20 -> 0 | J3: =F3*I3 -> #DIV/0! | K3: =J3/'źródła ciepła'!R9 -> #DIV/0! | L3: =C3*I3/1000 -> 0
A4: podłączenie mieszkania do nitki ciepłowniczej lub wyposażenie w ogrzewanie elektryczne | B4: 10000 | C4: =B4/60 -> 166.66667 | D4: ='źródła ciepła'!S8 -> #DIV/0! | E4: ='źródła ciepła'!S2 -> #DIV/0! | F4: =D4-E4 -> #DIV/0! | G4: =F4/C4*100 -> #DIV/0! | I4: =H4*'źródła ciepła'!C8 -> 0 | J4: =F4*I4 -> #DIV/0! | K4: =J4/'źródła ciepła'!R9 -> #DIV/0! | L4: =C4*I4/1000 -> 0
A5: wyposażenie mieszkania w kocioł węglowy automatyczny (retortowy) | B5: 12000 | C5: =B5/60 -> 200 | D5: ='źródła ciepła'!S8 -> #DIV/0! | E5: ='źródła ciepła'!S3 -> #DIV/0! | F5: =D5-E5 -> #DIV/0! | G5: =F5/C5*100 -> #DIV/0! | I5: =H5*'źródła ciepła'!C8 -> 0 | J5: =F5*I5 -> #DIV/0! | K5: =J5/'źródła ciepła'!R9 -> #DIV/0! | L5: =C5*I5/1000 -> 0
A6: wyposażenie mieszkania w kocioł peletowy automatyczny (retortowy) | B6: 12000 | C6: =B6/60 -> 200 | D6: ='źródła ciepła'!S8 -> #DIV/0! | E6: ='źródła ciepła'!S4 -> #DIV/0! | F6: =D6-E6 -> #DIV/0! | G6: =F6/C6*100 -> #DIV/0! | I6: =H6*'źródła ciepła'!C8 -> 0 | K6: =J6/'źródła ciepła'!R9 -> #DIV/0! | L6: =C6*I6/1000 -> 0
A7: wyposażenie mieszkania w kocioł nowego typu (zasypowy) | B7: 8000 | C7: =B7/60 -> 133.33333 | D7: ='źródła ciepła'!S8 -> #DIV/0! | E7: ='źródła ciepła'!S5 -> #DIV/0! | F7: =D7-E7 -> #DIV/0! | G7: =F7/C7*100 -> #DIV/0! | I7: =H7*'źródła ciepła'!C8 -> 0 | J7: =F7*I7 -> #DIV/0! | K7: =J7/'źródła ciepła'!R9 -> #DIV/0! | L7: =C7*I7/1000 -> 0
A8: wyposażenie mieszkania w kocioł gazowy | B8: 15000 | C8: =B8/60 -> 250 | D8: ='źródła ciepła'!S8 -> #DIV/0! | E8: ='źródła ciepła'!S6 -> #DIV/0! | F8: =D8-E8 -> #DIV/0! | G8: =F8/C8*100 -> #DIV/0! | I8: =H8*'źródła ciepła'!C8 -> 0 | J8: =F8*I8 -> #DIV/0! | K8: =J8/'źródła ciepła'!R9 -> #DIV/0! | L8: =C8*I8/1000 -> 0
A9: wyposażenie mieszkania w kocioł olejowy | B9: 18000 | C9: =B9/60 -> 300 | D9: ='źródła ciepła'!S8 -> #DIV/0! | E9: ='źródła ciepła'!S7 -> #DIV/0! | F9: =D9-E9 -> #DIV/0! | G9: =F9/C9*100 -> #DIV/0! | I9: =H9*'źródła ciepła'!C8 -> 0 | J9: =F9*I9 -> #DIV/0! | K9: =J9/'źródła ciepła'!R9 -> #DIV/0! | L9: =C9*I9/1000 -> 0
A10: Razem | I10: =SUM(I2:I9) -> 0 | J10: =SUM(J2:J9) -> #DIV/0! | K10: =SUM(K2:K9) -> #DIV/0! | L10: =SUM(L2:L9) -> 0
A11: Koszt inwestycyjny zredukowania emisji SO2 o 1kg/r [zł] | K11: =L10/J10*1000 -> #DIV/0!

Sheet termomodernizacja
E3: sr. temp. month | F3: l.dni grzania | G3: Sd
D4: I | E4: 0 | F4: 31 | G4: =(20-E4)*F4 -> 620
D5: II | E5: 5 | F5: 29 | G5: =(20-E5)*F5 -> 435
D6: III | E6: 5 | F6: 31 | G6: =(20-E6)*F6 -> 465
D7: IV | E7: 10 | F7: 28 | G7: =(20-E7)*F7 -> 280
D8: V | E8: 15 | F8: 17 | G8: =(20-E8)*F8 -> 85
D9: X | E9: 8 | F9: 29 | G9: =(20-E9)*F9 -> 348
D10: XI | E10: 5 | F10: 30 | G10: =(20-E10)*F10 -> 450
D11: XII | E11: 1 | F11: 31 | G11: =(20-E11)*F11 -> 589
G12: =SUM(G4:G11) -> 3272
F14: stopniogodziny | G14: =G12*24 -> 78528
A17: Rodzaj budynków mieszkalnych | B17: Wskaźnik zapotrzebowanie na ciepło [W/m2 oK] | C17: D21 [h oK] | D17: Powierzchnia mieszkalna [m2] | E17: Całkowite zapotrzebowanie na ciepło [GJ] | F17: Udział w zapotrzebowaniu ciepła i emisji | G17: Emisja PM10 [kg/r] | H17: Emisja PM10 [kg/ m2] | I17: Emisja PM2,5 [kg/r] | J17: Emisja PM2,5 [kg/ m2] | K17: Emisja B(a)P [kg/r] | L17: Emisja B(a)P [kg/ m2] | M17: Emisja NO2 [kg/r] | N17: Emisja NO2 [kg/ m2] | O17: Emisja SO2 [kg/r] | P17: Emisja SO2 [kg/ m2]
A18: Mieszkania o małych stratach ciepła | B18: 1.1 | C18: 78528 | D18: =20%*D21 -> 0 | E18: =B18*D18*C18/1000000000*3600 -> 0 | F18: =E18/E21 -> #DIV/0! | G18: =F18*'źródła ciepła'!F9 -> #DIV/0! | H18: =G18/D18 -> #DIV/0! | I18: =F18*'źródła ciepła'!I9 -> #DIV/0! | J18: =I18/D18 -> #DIV/0! | K18: =F18*'źródła ciepła'!L9 -> #DIV/0! | L18: =K18/D18 -> #DIV/0! | M18: =F18*'źródła ciepła'!O9 -> #DIV/0! | N18: =M18/D18 -> #DIV/0! | O18: =F18*'źródła ciepła'!R9 -> #DIV/0! | P18: =O18/D18 -> #DIV/0!
A19: Mieszkania o średnich stratach ciepła | B19: 1.6 | C19: 78528 | D19: =25%*D21 -> 0 | E19: =B19*D19*C19/1000000000*3600 -> 0 | F19: =E19/E21 -> #DIV/0! | G19: =F19*'źródła ciepła'!F9 -> #DIV/0! | H19: =G19/D19 -> #DIV/0! | I19: =F19*'źródła ciepła'!I9 -> #DIV/0! | J19: =I19/D19 -> #DIV/0! | K19: =F19*'źródła ciepła'!L9 -> #DIV/0! | L19: =K19/D19 -> #DIV/0! | M19: =F19*'źródła ciepła'!O9 -> #DIV/0! | N19: =M19/D19 -> #DIV/0! | O19: =F19*'źródła ciepła'!R9 -> #DIV/0! | P19: =O19/D19 -> #DIV/0!
A20: Mieszkania o dużych stratach ciepła | B20: 2.5 | C20: 78528 | D20: =55%*D21 -> 0 | E20: =B20*D20*C20/1000000000*3600 -> 0 | F20: =E20/E21 -> #DIV/0! | G20: =F20*'źródła ciepła'!F9 -> #DIV/0! | H20: =G20/D20 -> #DIV/0! | I20: =F20*'źródła ciepła'!I9 -> #DIV/0! | J20: =I20/D20 -> #DIV/0! | K20: =F20*'źródła ciepła'!L9 -> #DIV/0! | L20: =K20/D20 -> #DIV/0! | M20: =F20*'źródła ciepła'!O9 -> #DIV/0! | N20: =M20/D20 -> #DIV/0! | O20: =F20*'źródła ciepła'!R9 -> #DIV/0! | P20: =O20/D20 -> #DIV/0!
A21: Ogółem | E21: =SUM(E18:E20) -> 0 | F21: =SUM(F18:F20) -> #DIV/0! | G21: =SUM(G18:G20) -> #DIV/0! | H21: =G21/D21 -> #DIV/0! | I21: =SUM(I18:I20) -> #DIV/0! | J21: =I21/F21 -> #DIV/0! | K21: =SUM(K18:K20) -> #DIV/0! | L21: =K21/D21 -> #DIV/0! | M21: =SUM(M18:M20) -> #DIV/0! | N21: =M21/J21 -> #DIV/0! | O21: =SUM(O18:O20) -> #DIV/0! | P21: =O21/L21 -> #DIV/0!

Sheet źródła ciepła
B1: Rodzaj ogrzewania budynku: | C1: Powierzchnia ogrzewana [m2] | D1: Zapotrzebowanie ciepła [GJ/rok] | E1: Wskaźnik emisji PM10 [kg/GJ] | F1: Emisja PM10 [kg] | G1: Emisja PM10 [kg/m2] | H1: Wskaźnik emisji PM2,5 [kg/GJ] | I1: Emisja PM2,5 [kg] | J1: Emisja PM2,5 [kg/m2] | K1: Wskaźnik emisji B(a)P [kg/GJ] | L1: Emisja B(a)P [kg] | M1: Emisja B(a)P [kg/m2] | N1: Wskaźnik emisji NO2 [kg/GJ] | O1: Emisja NO2 [kg] | P1: Emisja NO2 [kg/m2] | Q1: Wskaźnik emisji SO2 [kg/GJ] | R1: Emisja SO2 [kg] | S1: Emisja SO2 [kg/m2]
A2: 1 | B2: Ogrzewanie centralne z sieci | E2: 0 | F2: =D2*E2 -> 0 | G2: =F2/C2 -> #DIV/0! | H2: 0 | I2: =D2*H2 -> 0 | J2: =I2/C2 -> #DIV/0! | K2: 0 | L2: =D2*K2 -> 0 | M2: =L2/C2 -> #DIV/0! | N2: 0 | O2: =D2*N2 -> 0 | P2: =O2/C2 -> #DIV/0! | Q2: 0 | R2: =D2*Q2 -> 0 | S2: =R2/C2 -> #DIV/0!
A3: 2 | B3: Kocioł węglowy z automatycznym sterowaniem | E3: 0.04 | F3: =D3*E3 -> 0 | G3: =F3/C3 -> #DIV/0! | H3: 0.035 | I3: =D3*H3 -> 0 | J3: =I3/C3 -> #DIV/0! | K3: 1e-05 | L3: =D3*K3 -> 0 | M3: =L3/C3 -> #DIV/0! | N3: 0.1 | O3: =D3*N3 -> 0 | P3: =O3/C3 -> #DIV/0! | Q3: 0.2 | R3: =D3*Q3 -> 0 | S3: =R3/C3 -> #DIV/0!
A4: 3 | B4: Kocioł peletowy z automatycznym sterowaniem | E4: 0.029 | F4: =D4*E4 -> 0 | G4: =F4/C4 -> #DIV/0! | H4: 0.029 | I4: =D4*H4 -> 0 | J4: =I4/C4 -> #DIV/0! | K4: 1e-05 | L4: =D4*K4 -> 0 | M4: =L4/C4 -> #DIV/0! | N4: 0.08 | O4: =D4*N4 -> 0 | P4: =O4/C4 -> #DIV/0! | Q4: 0.011 | R4: =D4*Q4 -> 0 | S4: =R4/C4 -> #DIV/0!
A5: 4 | B5: Kocioł węglowy zasypowy nowego typu | E5: 0.07 | F5: =D5*E5 -> 0 | G5: =F5/C5 -> #DIV/0! | H5: 0.065 | I5: =D5*H5 -> 0 | J5: =I5/C5 -> #DIV/0! | K5: 2e-05 | L5: =D5*K5 -> 0 | M5: =L5/C5 -> #DIV/0! | N5: 0.1 | O5: =D5*N5 -> 0 | P5: =O5/C5 -> #DIV/0! | Q5: 0.3 | R5: =D5*Q5 -> 0 | S5: =R5/C5 -> #DIV/0!
A6: 5 | B6: Ogrzewanie gazowe | E6: 0.0012 | F6: =D6*E6 -> 0 | G6: =F6/C6 -> #DIV/0! | H6: 0.0012 | I6: =D6*H6 -> 0 | J6: =I6/C6 -> #DIV/0! | K6: 5.6e-10 | L6: =D6*K6 -> 0 | M6: =L6/C6 -> #DIV/0! | N6: 0.051 | O6: =D6*N6 -> 0 | P6: =O6/C6 -> #DIV/0! | Q6: 0.0003 | R6: =D6*Q6 -> 0 | S6: =R6/C6 -> #DIV/0!
A7: 6 | B7: Kocioł olejowy | E7: 0.0019 | F7: =D7*E7 -> 0 | G7: =F7/C7 -> #DIV/0! | H7: 0.0019 | I7: =D7*H7 -> 0 | J7: =I7/C7 -> #DIV/0! | K7: 8e-06 | L7: =D7*K7 -> 0 | M7: =L7/C7 -> #DIV/0! | N7: 0.051 | O7: =D7*N7 -> 0 | P7: =O7/C7 -> #DIV/0! | Q7: 0.07 | R7: =D7*Q7 -> 0 | S7: =R7/C7 -> #DIV/0!
A8: 7 | B8: Kocioł węglowy starego typu (pozycja wyjściowa przed zmianą) | E8: 0.48 | F8: =D8*E8 -> 0 | G8: =F8/C8 -> #DIV/0! | H8: 0.292 | I8: =D8*H8 -> 0 | J8: =I8/C8 -> #DIV/0! | K8: 0.00023 | L8: =D8*K8 -> 0 | M8: =L8/C8 -> #DIV/0! | N8: 0.11 | O8: =D8*N8 -> 0 | P8: =O8/C8 -> #DIV/0! | Q8: 0.9 | R8: =D8*Q8 -> 0 | S8: =R8/C8 -> #DIV/0!
B9: Całkowita emisja

Sheet emisja powierzchniowa_miasta
A1: pełny kod powiatu | B1: nazwa powiatu | C1: KOD gminy | D1: całkowite zapotrzebowanie ciepła | E1: zapotrzebowanie ciepła z węgla | F1: zapotrzebowanie ciepła kocioł węglowy starego typu | G1: zapotrzebowanie ciepła kocioł węglowy automatyczny | H1: zapotrzebowanie ciepła kocioł węglowy zasypowy | I1: zapotrzebowanie ciepła z oleju | J1: zapotrzebowanie ciepła z drewna | K1: zapotrzebowanie ciepła kocioł peletowy | L1: zapotrzebowanie ciepła z gazu | M1: zapotrzebowanie ciepła sieć ciepłownicza | N1: całkowita emisja PM10 | O1: całkowita emisja PM2,5 | P1: całkowita emisja B(a)P | Q1: całkowita emisja SO2 | R1: całkowita emisja NO2
D2: [GJ/rok] | E2: [GJ/rok] | F2: [GJ/rok] | G2: [GJ/rok] | H2: [GJ/rok] | I2: [GJ/rok] | J2: [GJ/rok] | K2: [GJ/rok] | L2: [GJ/rok] | M2: [GJ/rok] | N2: [kg/rok] | O2: [kg/rok] | P2: [kg/rok] | Q2: [kg/rok] | R2: [kg/rok]
A3: 2461 | B3: Powiat m.Bielsko-Biała | C3: 2461011 | D3: 4707990 | E3: 848605.81 | F3: =E3*70% -> 594024.06 | G3: =E3*15% -> 127290.87 | H3: =E3*15% -> 127290.87 | I3: 176423.41 | J3: 28623.918 | K3: =J3*10% -> 2862.3918 | L3: 1221102.5 | M3: 2433234.3 | N3: 437344.32 | O3: 277912.84 | P3: 261.75957 | Q3: 867352.27 | R3: 273415.51
A4: 2462 | B4: Powiat m.Bytom | C4: 2462011 | D4: 4690548 | E4: 1283765.1 | F4: =E4*70% -> 898635.58 | G4: =E4*15% -> 192564.77 | H4: =E4*15% -> 192564.77 | I4: 46371.825 | J4: 28143.288 | K4: =J4*10% -> 2814.3288 | L4: 521082.05 | M4: 2811185.7 | N4: 644231.22 | O4: 403347.52 | P4: 392.17121 | Q4: 1289597.3 | R4: 301310.11
A5: 2463 | B5: Powiat m.Chorzów | C5: 2463011 | D5: 3001536 | E5: 1388859.4 | F5: =E5*70% -> 972201.56 | G5: =E5*15% -> 208328.91 | H5: =E5*15% -> 208328.91 | I5: 33016.896 | J5: 21010.752 | K5: =J5*10% -> 2101.0752 | L5: 337422.78 | M5: 1221226.2 | N5: 687482.28 | O5: 427067.59 | P5: 421.91465 | Q5: 1393037.4 | R5: 307257.72
A6: 2464 | B6: Powiat m.Częstochowa | C6: 2464011 | D6: 6330582 | E6: 1453049.8 | F6: =E6*70% -> 1017134.8 | G6: =E6*15% -> 217957.47 | H6: =E6*15% -> 217957.47 | I6: 126611.64 | J6: 31643.776 | K6: =J6*10% -> 3164.3776 | L6: 955856.96 | M6: 3763419.8 | N6: 729796.07 | O6: 457152.27 | P6: 443.84161 | Q6: 1466979.2 | R6: 372338.4
A7: 2465 | B7: Powiat m.Dąbrowa Górnicza | C7: 2465011 | D7: 3366927 | E7: 934794 | F7: =E7*70% -> 654355.8 | G7: =E7*15% -> 140219.1 | H7: =E7*15% -> 140219.1 | I7: 16835 | J7: 21414 | K7: =J7*10% -> 2141.4 | L7: 374895 | M7: 2018989 | N7: 469939.65 | O7: 294517.94 | P7: 285.79393 | Q7: 937433.51 | R7: 218000.57
A8: 2466 | B8: Powiat m.Gliwice | C8: 2466011 | D8: 5027670 | E8: 1324051.6 | F8: =E8*70% -> 926836.15 | G8: =E8*15% -> 198607.75 | H8: =E8*15% -> 198607.75 | I8: 90498.06 | J8: 35193.69 | K8: =J8*10% -> 3519.369 | L8: 733905.9 | M8: 2844020.7 | N8: 670813.67 | O8: 422247.33 | P8: 406.02519 | Q8: 1334531.3 | R8: 328712.56
A9: 2467 | B9: Powiat m.Jastrzębie-Zdrój | C9: 2467011 | D9: 2476521 | E9: 431800.92 | F9: =E9*70% -> 302260.64 | G9: =E9*15% -> 64770.137 | H9: =E9*15% -> 64770.137 | I9: 40769.622 | J9: 44733.073 | K9: =J9*10% -> 4473.3073 | L9: 241224.77 | M9: 1717992.6 | N9: 250724.27 | O9: 168996.48 | P9: 140.72857 | Q9: 437641.38 | R9: 113132.52
A10: 2468 | B10: Powiat m.Jaworzno | C10: 2468011 | D10: 2546235 | E10: 1639863.5 | F10: =E10*70% -> 1147904.4 | G10: =E10*15% -> 245979.52 | H10: =E10*15% -> 245979.52 | I10: 9866.34 | J10: 50924.7 | K10: =J10*10% -> 5092.47 | L10: 179481.01 | M10: 666099.45 | N10: 836352.96 | O10: 528352.02 | P10: 504.69151 | Q10: 1642929.3 | R10: 349064.93
A11: 2469 | B11: Powiat m.Katowice | C11: 2469011 | D11: 8295021 | E11: 2257030.8 | F11: =E11*70% -> 1579921.6 | G11: =E11*15% -> 338554.62 | H11: =E11*15% -> 338554.62 | I11: 99540.252 | J11: 41829.21 | K11: =J11*10% -> 4182.921 | L11: 741172.68 | M11: 5155448 | N11: 1125049.6 | O11: 701696.88 | P11: 687.57891 | Q11: 2268655.9 | R11: 517470.7
A12: 2470 | B12: Powiat m.Mysłowice | C12: 2470011 | D12: 2033235 | E12: 974957 | F12: =E12*70% -> 682469.9 | G12: =E12*15% -> 146243.55 | H12: =E12*15% -> 146243.55 | I12: 40665 | J12: 29462 | K12: =J12*10% -> 2946.2 | L12: 276939 | M12: 711212 | N12: 496839.41 | O12: 313738.21 | P12: 299.85763 | Q12: 980190.76 | R12: 222001.25
A13: 2471 | B13: Powiat m.Piekary Śląskie | C13: 2471011 | D13: 1552554 | E13: 815308 | F13: =E13*70% -> 570715.6 | G13: =E13*15% -> 122296.2 | H13: =E13*15% -> 122296.2 | I13: 31051 | J13: 26176 | K13: =J13*10% -> 2617.6 | L13: 136458 | M13: 543561 | N13: 416789.51 | O13: 263640.33 | P13: 251.1402 | Q13: 819421.57 | R13: 178912.19
A14: 2472 | B14: Powiat m.Ruda Śląska | C14: 2472011 | D14: 3843342 | E14: 1129592.4 | F14: =E14*70% -> 790714.66 | G14: =E14*15% -> 169438.86 | H14: =E14*15% -> 169438.86 | I14: 44612.068 | J14: 28067.764 | K14: =J14*10% -> 2806.7764 | L14: 290660.4 | M14: 2350409.4 | N14: 569759.5 | O14: 357738.46 | P14: 345.90017 | Q14: 1135158.7 | R14: 253977.6
A15: 2473 | B15: Powiat m.Rybnik | C15: 2473011 | D15: 3801060 | E15: 1628176.3 | F15: =E15*70% -> 1139723.4 | G15: =E15*15% -> 244226.45 | H15: =E15*15% -> 244226.45 | I15: 169077.45 | J15: 86794.673 | K15: =J15*10% -> 8679.4673 | L15: 420097.42 | M15: 1496914.1 | N15: 866001.3 | O15: 559470.79 | P15: 510.17209 | Q15: 1648216.7 | R15: 380654.96
A16: 2474 | B16: Powiat m.Siemianowice Śląskie | C16: 2474011 | D16: =SUM(D15:D15) -> 3801060 | E16: 862060 | F16: =E16*70% -> 603442 | G16: =E16*15% -> 129309 | H16: =E16*15% -> 129309 | I16: 37551 | J16: 26023 | K16: =J16*10% -> 2602.3 | L16: 124902 | M16: 2750524 | N16: 866001.3 | O16: 277182.75 | P16: 265.12833 | Q16: 866793.33 | R16: 187887.16
A17: 2475 | B17: Powiat m.Sosnowiec | C17: 2475011 | D17: 5764851 | E17: 1352860.4 | F17: =E17*70% -> 947002.27 | G17: =E17*15% -> 202929.06 | H17: =E17*15% -> 202929.06 | I17: 57648.51 | J17: 28824.255 | K17: =J17*10% -> 2882.4255 | L17: 575898.25 | M17: 3749619.6 | N17: 678173.18 | O17: 424341.23 | P17: 413.07142 | Q17: 1359835.6 | R17: 319935.18
A18: 2476 | B18: Powiat m.Świętochłowice | C18: 2476011 | D18: 1414044 | E18: 830341 | F18: =E18*70% -> 581238.7 | G18: =E18*15% -> 124551.15 | H18: =E18*15% -> 124551.15 | I18: 28281 | J18: 25156 | K18: =J18*10% -> 2515.6 | L18: 120474 | M18: 409792 | N18: 422991.78 | O18: 267048.82 | P18: 255.39476 | Q18: 834138.69 | R18: 180431.49
A19: 2477 | B19: Powiat m.Tychy | C19: 2477011 | D19: 3486024 | E19: 1722200 | F19: =E19*70% -> 1205540 | G19: =E19*15% -> 258330 | H19: =E19*15% -> 258330 | I19: 69720 | J19: 52186 | K19: =J19*10% -> 5218.6 | L19: 107352 | M19: 1534566 | N19: 877118.33 | O19: 553678.77 | P19: 529.71493 | Q19: 1731093.2 | R19: 364909.73
A20: 2478 | B20: Powiat m.Zabrze | C20: 2478011 | D20: 4845204 | E20: 2199576.6 | F20: =E20*70% -> 1539703.6 | G20: =E20*15% -> 329936.49 | H20: =E20*15% -> 329936.49 | I20: 57095.709 | J20: 33916.428 | K20: =J20*10% -> 3391.6428 | L20: 884825.2 | M20: 1669790.1 | N20: 1090009.2 | O20: 677570.12 | P20: 668.35943 | Q20: 2206825.4 | R20: 511936.26
A21: 2479 | B21: Powiat m.Żory | C21: 2479011 | D21: 1675404 | E21: 990697.99 | F21: =E21*70% -> 693488.59 | G21: =E21*15% -> 148604.7 | H21: =E21*15% -> 148604.7 | I21: 22907.124 | J21: 12767.76 | K21: =J21*10% -> 1276.776 | L21: 188451.63 | M21: 460579.5 | N21: 488172.01 | O21: 302457.99 | P21: 300.40419 | Q21: 993506.07 | R21: 215084.14

Sheet emisja powierzchniowa_gminy
A1: nazwa powiatu | B1: KOD gminy | C1: nazwa | D1: całkowite zapotrzebowanie ciepła | E1: zapotrzebowanie ciepła z węgla | F1: zapotrzebowanie ciepła kocioł węglowy starego typu | G1: zapotrzebowanie ciepła kocioł węglowy automatyczny | H1: zapotrzebowanie ciepła kocioł węglowy zasypowy | I1: zapotrzebowanie ciepła z oleju | J1: zapotrzebowanie ciepła z drewna | K1: zapotrzebowanie ciepła kocioł peletowy | L1: zapotrzebowanie ciepła z gazu | M1: zapotrzebowanie ciepła sieć ciepłownicza | N1: całkowita emisja PM10 | O1: całkowita emisja PM2,5 | P1: całkowita emisja B(a)P | Q1: całkowita emisja SO2 | R1: całkowita emisja NO2
D2: [GJ/rok] | E2: [GJ/rok] | F2: [GJ/rok] | G2: [GJ/rok] | H2: [GJ/rok] | I2: [GJ/rok] | J2: [GJ/rok] | K2: [GJ/rok] | L2: [GJ/rok] | M2: [GJ/rok] | N2: [kg/rok] | O2: [kg/rok] | P2: [kg/rok] | Q2: [kg/rok] | R2: [kg/rok]
A3: Powiat bielski | B3: 2402011 | C3: Szczyrk | D3: 155520 | E3: 54876.787 | F3: =E3*70% -> 38413.751 | G3: =E3*15% -> 8231.5181 | H3: =E3*15% -> 8231.5181 | I3: 3110.4 | J3: 2510.0928 | K3: =J3*10% -> 251.00928 | L3: 71658 | M3: 23328 | N3: 28.880453 | O3: 18.557316 | P3: 0.017090973 | Q3: 55.307563 | R3: 16.663538
A4: Powiat bielski | B4: 2402022 | C4: Bestwina | D4: 298809 | E4: 157708.4 | F4: =E4*70% -> 110395.88 | G4: =E4*15% -> 23656.26 | H4: =E4*15% -> 23656.26 | I4: 5976.18 | J4: 5441.3119 | K4: =J4*10% -> 544.13119 | L4: 129789 | M4: 0 | N4: 81.159872 | O4: 51.528033 | P4: 0.048673638 | Q4: 158.55766 | R4: 42.003181
A5: Powiat bielski | B5: 2402032 | C5: Buczkowice | D5: 297567 | E5: 160326.12 | F5: =E5*70% -> 112228.29 | G5: =E5*15% -> 24048.919 | H5: =E5*15% -> 24048.919 | I5: 5951.34 | J5: 5418.6951 | K5: =J5*10% -> 541.86951 | L5: 125766 | M5: 0 | N5: 82.387762 | O5: 52.266338 | P5: 0.049453296 | Q5: 161.17046 | R5: 42.235912
A6: Powiat bielski | B6: 2402044 | C6: Czechowice-Dziedzice | D6: 1202958 | E6: 700980.04 | F6: 490686.03 | G6: 105147.01 | H6: 105147.01 | I6: 24059.16 | J6: 22971.095 | K6: 2297.1095 | L6: 310878 | M6: 143949.15 | N6: 359.11372 | O6: 227.43083 | P6: 0.21603985 | Q6: 704.35697 | R6: 167.44627
A7: Powiat bielski | B7: 2402052 | C7: Jasienica | D7: 610254 | E7: 271459.29 | F7: =E7*70% -> 190021.5 | G7: =E7*15% -> 40718.893 | H7: =E7*15% -> 40718.893 | I7: 12205.08 | J7: 8037.0452 | K7: =J7*10% -> 803.70452 | L7: 318303 | M7: 0 | N7: 138.58887 | O7: 87.61095 | P7: 0.08344869 | Q7: 273.09198 | R7: 78.975693
A8: Powiat bielski | B8: 2402062 | C8: Jaworze | D8: 185841 | E8: 56163.009 | F8: =E8*70% -> 39314.106 | G8: =E8*15% -> 8424.4513 | H8: =E8*15% -> 8424.4513 | I8: 3716.82 | J8: 2191.0654 | K8: =J8*10% -> 219.10654 | L8: 123741 | M8: 0 | N8: 29.28169 | O8: 18.724154 | P8: 0.017397184 | Q8: 56.660679 | R8: 20.614484
A9: Powiat bielski | B9: 2402072 | C9: Kozy | D9: 335583 | E9: 117380.22 | F9: =E9*70% -> 82166.155 | G9: =E9*15% -> 17607.033 | H9: =E9*15% -> 17607.033 | I9: 6711.66 | J9: 4771.9903 | K9: =J9*10% -> 477.19903 | L9: 206820 | M9: 0 | N9: 61.292661 | O9: 39.223644 | P9: 0.036407985 | Q9: 118.30486 | R9: 39.359302
A10: Powiat bielski | B10: 2402082 | C10: Porąbka | D10: 414693 | E10: 190265.3 | F10: =E10*70% -> 133185.71 | G10: =E10*15% -> 28539.794 | H10: =E10*15% -> 28539.794 | I10: 8293.86 | J10: 5884.4937 | K10: =J10*10% -> 588.44937 | L10: 210222 | M10: 0 | N10: 97.355397 | O10: 61.620044 | P10: 0.058551825 | Q10: 191.38927 | R10: 54.458653
A11: Powiat bielski | B11: 2402094 | C11: Wilamowice | D11: 444798 | E11: 254867.77 | F11: 178407.44 | G11: 38230.165 | H11: 38230.165 | I11: 8895.96 | J11: 7855.5436 | K11: 785.55436 | L11: 165132 | M11: 8129.7 | N11: 130.1817 | O11: 82.313347 | P11: 0.078425376 | Q11: 256.11095 | R11: 64.516766
A12: Powiat bielski | B12: 2402102 | C12: Wilkowice | D12: 353484 | E12: 171665.97 | F12: =E12*70% -> 120166.18 | G12: =E12*15% -> 25749.895 | H12: =E12*15% -> 25749.895 | I12: 7069.68 | J12: 5429.5142 | K12: =J12*10% -> 542.95142 | L12: 169452 | M12: 0 | N12: 87.918449 | O12: 55.673989 | P12: 0.052858113 | Q12: 172.63669 | R12: 47.68773
A13: Powiat cieszyński | B13: 2403011 | C13: Cieszyn | D13: 975213 | E13: 342143.73 | F13: =E13*70% -> 239500.61 | G13: =E13*15% -> 51321.559 | H13: =E13*15% -> 51321.559 | I13: 19504.26 | J13: 13809.016 | K13: =J13*10% -> 1380.9016 | L13: 306747 | M13: 292563.9 | N13: 178.05783 | O13: 113.73234 | P13: 0.10609788 | Q13: 344.7107 | R13: 93.683442
A14: Powiat cieszyński | B14: 2403021 | C14: Ustroń | D14: 432054 | E14: 165092.15 | F14: =E14*70% -> 115564.51 | G14: =E14*15% -> 24763.823 | H14: =E14*15% -> 24763.823 | I14: 8641.08 | J14: 4705.0681 | K14: =J14*10% -> 470.50681 | L14: 205902 | M14: 47525.94 | N14: 84.133599 | O14: 53.134247 | P14: 0.050705065 | Q14: 166.2009 | R14: 48.965391
A15: Powiat cieszyński | B15: 2403031 | C15: Wisła | D15: 305991 | E15: 141462.7 | F15: =E15*70% -> 99023.889 | G15: =E15*15% -> 21219.405 | H15: =E15*15% -> 21219.405 | I15: 6119.82 | J15: 3883.0258 | K15: =J15*10% -> 388.30258 | L15: 107244 | M15: 47428.605 | N15: 71.828027 | O15: 45.268549 | P15: 0.043410361 | Q15: 142.25454 | R15: 36.929945
A16: Powiat cieszyński | B16: 2403042 | C16: Brenna | D16: 294921 | E16: 140544.6 | F16: =E16*70% -> 98381.222 | G16: =E16*15% -> 21081.69 | H16: =E16*15% -> 21081.69 | I16: 5898.42 | J16: 4556.5294 | K16: =J16*10% -> 455.65295 | L16: 144018 | M16: 0 | N16: 72.095844 | O16: 45.694764 | P16: 0.043303302 | Q16: 141.35662 | R16: 39.442364
A17: Powiat cieszyński | B17: 2403052 | C17: Chybie | D17: 256176 | E17: 147972.38 | F17: =E17*70% -> 103580.67 | G17: =E17*15% -> 22195.857 | H17: =E17*15% -> 22195.857 | I17: 5123.52 | J17: 4964.6909 | K17: =J17*10% -> 496.46909 | L17: 98172 | M17: 0 | N17: 75.97306 | O17: 48.173336 | P17: 0.045633557 | Q17: 148.70722 | R17: 37.678285
A18: Powiat cieszyński | B18: 2403062 | C18: Dębowiec | D18: 152955 | E18: 74391.194 | F18: =E18*70% -> 52073.836 | G18: =E18*15% -> 11158.679 | H18: =E18*15% -> 11158.679 | I18: 3059.1 | J18: 2239.2612 | K18: =J18*10% -> 223.92612 | L18: 73278 | M18: 0 | N18: 37.98999 | O18: 24.019173 | P18: 0.022877582 | Q18: 74.806808 | R18: 20.637121
A19: Powiat cieszyński | B19: 2403072 | C19: Goleszów | D19: 344331 | E19: 150272.94 | F19: =E19*70% -> 105191.05 | G19: =E19*15% -> 22540.94 | H19: =E19*15% -> 22540.94 | I19: 6886.62 | J19: 5020.346 | K19: =J19*10% -> 502.0346 | L19: 182142 | M19: 0 | N19: 77.278088 | O19: 49.046587 | P19: 0.046337895 | Q19: 151.21461 | R19: 44.235558
A20: Powiat cieszyński | B20: 2403082 | C20: Hażlach | D20: 284661 | E20: 173523.65 | F20: =E20*70% -> 121466.56 | G20: =E20*15% -> 26028.548 | H20: =E20*15% -> 26028.548 | I20: 5693.22 | J20: 5243.4556 | K20: =J20*10% -> 524.34556 | L20: 100170 | M20: 0 | N20: 88.510162 | O20: 55.921665 | P20: 0.053368699 | Q20: 174.3257 | R20: 43.013231
A21: Powiat cieszyński | B21: 2403092 | C21: Istebna | D21: 320058 | E21: 304343.15 | F21: =E21*70% -> 213040.21 | G21: =E21*15% -> 45651.473 | H21: =E21*15% -> 45651.473 | I21: 6401.16 | J21: 9313.6878 | K21: =J21*10% -> 931.36878 | L21: 0 | M21: 0 | N21: 155.0425 | O21: 97.883185 | P21: 0.093632136 | Q21: 305.33661 | R21: 62.726567
A22: Powiat cieszyński | B22: 2403104 | C22: Skoczów | D22: 720792 | E22: 319075.4 | F22: 223352.78 | G22: 47861.31 | H22: 47861.31 | I22: 14415.84 | J22: 10744.504 | K22: 1074.4504 | L22: 316089 | M22: 60215.4 | N22: 164.04575 | O22: 104.09994 | P22: 0.098410653 | Q22: 321.02995 | R22: 88.907015
A23: Powiat cieszyński | B23: 2403114 | C23: Strumień | D23: 341793 | E23: 198692.41 | F23: 139084.68 | G23: 29803.861 | H23: 29803.861 | I23: 6835.86 | J23: 6062.0935 | K23: 606.20935 | L23: 115587 | M23: 14608.35 | N23: 101.40624 | O23: 64.089776 | P23: 0.06112413 | Q23: 199.6442 | R23: 49.346654
A24: Powiat cieszyński | B24: 2403122 | C24: Zebrzydowice | D24: 353403 | E24: 186133.83 | F24: =E24*70% -> 130293.68 | G24: =E24*15% -> 27920.074 | H24: =E24*15% -> 27920.074 | I24: 7068.06 | J24: 6117.4059 | K24: =J24*10% -> 611.74059 | L24: 153927 | M24: 0 | N24: 95.496999 | O24: 60.530399 | P24: 0.057370434 | Q24: 187.12569 | R24: 49.582093
A25: Powiat żywiecki | B25: 2417011 | C25: Żywiec | D25: 873207 | E25: 542479.85 | F25: =E25*70% -> 379735.89 | G25: =E25*15% -> 81371.977 | H25: =E25*15% -> 81371.977 | I25: 17464.14 | J25: 18992.252 | K25: =J25*10% -> 1899.2252 | L25: 75924 | M25: 218301.75 | N25: 278.79737 | O25: 176.86529 | P25: 0.16749416 | Q25: 544.96393 | R25: 117.99283
A26: Powiat żywiecki | B26: 2417022 | C26: Czernichów | D26: 182088 | E26: 101614.21 | F26: =E26*70% -> 71129.946 | G26: =E26*15% -> 15242.131 | H26: =E26*15% -> 15242.131 | I26: 3641.76 | J26: 3086.3916 | K26: =J26*10% -> 308.63916 | L26: 73818 | M26: 0 | N26: 51.872715 | O26: 32.788807 | P26: 0.031256339 | Q26: 102.12044 | R26: 26.289085
A27: Powiat żywiecki | B27: 2417032 | C27: Gilowice | D27: 163404 | E27: 155380.86 | F27: =E27*70% -> 108766.6 | G27: =E27*15% -> 23307.13 | H27: =E27*15% -> 23307.13 | I27: 3268.08 | J27: 4755.0564 | K27: =J27*10% -> 475.50564 | L27: 0 | M27: 0 | N27: 79.156166 | O27: 49.973767 | P27: 0.047803415 | Q27: 155.88807 | R27: 32.024733
A28: Powiat żywiecki | B28: 2417042 | C28: Jeleśnia | D28: 363798 | E28: 345935.52 | F28: =E28*70% -> 242154.86 | G28: =E28*15% -> 51890.328 | H28: =E28*15% -> 51890.328 | I28: 7275.96 | J28: 10586.522 | K28: =J28*10% -> 1058.6522 | L28: 0 | M28: 0 | N28: 176.23103 | O28: 111.26017 | P28: 0.10642816 | Q28: 347.06475 | R28: 71.298951
A29: Powiat żywiecki | B29: 2417052 | C29: Koszarawa | D29: 66150 | E29: 62902.035 | F29: =E29*70% -> 44031.425 | G29: =E29*15% -> 9435.3052 | H29: =E29*15% -> 9435.3052 | I29: 1323 | J29: 1924.965 | K29: =J29*10% -> 192.4965 | L29: 0 | M29: 0 | N29: 32.044383 | O29: 20.230623 | P29: 0.01935201 | Q29: 63.107365 | R29: 12.964408
A30: Powiat żywiecki | B30: 2417062 | C30: Lipowa | D30: 277722 | E30: 204356.18 | F30: =E30*70% -> 143049.33 | G30: =E30*15% -> 30653.427 | H30: =E30*15% -> 30653.427 | I30: 5554.44 | J30: 6157.0967 | K30: =J30*10% -> 615.70967 | L30: 61749 | M30: 0 | N30: 104.12119 | O30: 65.742575 | P30: 0.062846829 | Q30: 205.16594 | R30: 46.578899
A31: Powiat żywiecki | B31: 2417072 | C31: Łękawica | D31: 120096 | E31: 114199.29 | F31: =E31*70% -> 79939.5 | G31: =E31*15% -> 17129.893 | H31: =E31*15% -> 17129.893 | I31: 2401.92 | J31: 3494.7936 | K31: =J31*10% -> 349.47936 | L31: 0 | M31: 0 | N31: 58.176904 | O31: 36.728902 | P31: 0.035133773 | Q31: 114.57206 | R31: 23.537015
A32: Powiat żywiecki | B32: 2417082 | C32: Łodygowice | D32: 370602 | E32: 262916.18 | F32: =E32*70% -> 184041.32 | G32: =E32*15% -> 39437.427 | H32: =E32*15% -> 39437.427 | I32: 7412.04 | J32: 7993.8851 | K32: =J32*10% -> 799.38851 | L32: 92232 | M32: 0 | N32: 134.04996 | O32: 84.672174 | P32: 0.080874265 | Q32: 263.99179 | R32: 60.864457
A33: Powiat żywiecki | B33: 2417092 | C33: Milówka | D33: 272808 | E33: 259413.13 | F33: =E33*70% -> 181589.19 | G33: =E33*15% -> 38911.969 | H33: =E33*15% -> 38911.969 | I33: 5456.16 | J33: 7938.7128 | K33: =J33*10% -> 793.87128 | L33: 0 | M33: 0 | N33: 132.15365 | O33: 83.43274 | P33: 0.079809271 | Q33: 260.25992 | R33: 53.466276
A34: Powiat żywiecki | B34: 2417102 | C34: Radziechowy-Wieprz | D34: 350919 | E34: 333688.88 | F34: =E34*70% -> 233582.21 | G34: =E34*15% -> 50053.332 | H34: =E34*15% -> 50053.332 | I34: 7018.38 | J34: 10211.743 | K34: =J34*10% -> 1021.1743 | L34: 0 | M34: 0 | N34: 169.99218 | O34: 107.32139 | P34: 0.10266044 | Q34: 334.77813 | R34: 68.77486
A35: Powiat żywiecki | B35: 2417112 | C35: Rajcza | D35: 245538 | E35: 233482.08 | F35: =E35*70% -> 163437.46 | G35: =E35*15% -> 35022.313 | H35: =E35*15% -> 35022.313 | I35: 4910.76 | J35: 7145.1558 | K35: =J35*10% -> 714.51558 | L35: 0 | M35: 0 | N35: 118.94352 | O35: 75.092769 | P35: 0.071831504 | Q35: 234.24423 | R35: 48.121765
... A57: Powiat tarnogórski | B57: 2413092 | C57: Zbrosławice | D57: 428031 | E57: 345737.76 | F57: =E57*70% -> 242016.43 | G57: =E57*15% -> 51860.664 | H57: =E57*15% -> 51860.664 | I57: 8560.62 | J57: 10812.063 | K57: =J57*10% -> 1081.2063 | L57: 63045 | M57: 0 | N57: 176.46314 | O57: 111.52479 | P57: 0.10642541 | Q57: 347.02584 | R57: 75.861921
A58: Powiat częstochowski | B58: 2404014 | C58: Blachownia | D58: 357291 | E58: 287047.04 | F58: 200932.93 | G58: 43057.057 | H58: 43057.057 | I58: 7145.82 | J58: 9837.936 | K58: 983.7936 | L58: 0 | M58: 53260.2 | N58: 147.24558 | O58: 93.313613 | P58: 0.088574455 | Q58: 288.13371 | R58: 59.399598
A59: Powiat częstochowski | B59: 2404022 | C59: Dąbrowa | D59: 108702 | E59: 103364.73 | F59: =E59*70% -> 72355.312 | G59: =E59*15% -> 15504.71 | H59: =E59*15% -> 15504.71 | I59: 2174.04 | J59: 3163.2282 | K59: =J59*10% -> 316.32282 | L59: 0 | M59: 0 | N59: 52.657423 | O59: 33.24428 | P59: 0.031800487 | Q59: 103.70214 | R59: 21.303961
A60: Powiat częstochowski | B60: 2404032 | C60: Janów | D60: 161946 | E60: 153994.45 | F60: =E60*70% -> 107796.12 | G60: =E60*15% -> 23099.168 | H60: =E60*15% -> 23099.168 | I60: 3238.92 | J60: 4712.6286 | K60: =J60*10% -> 471.26286 | L60: 0 | M60: 0 | N60: 78.449881 | O60: 49.527867 | P60: 0.047376881 | Q60: 154.49713 | R60: 31.738987
A61: Powiat częstochowski | B61: 2404042 | C61: Kamienica | D61: 151254 | E61: 105286.4 | F61: =E61*70% -> 73700.478 | G61: =E61*15% -> 15792.96 | H61: =E61*15% -> 15792.96 | I61: 3025.08 | J61: 3162.7211 | K61: =J61*10% -> 316.27211 | L61: 39825 | M61: 0 | N61: 53.64925 | O61: 33.876383 | P61: 0.032376985 | Q61: 105.72227 | R61: 24.577068
A62: Powiat częstochowski | B62: 2404052 | C62: Kłomnice | D62: 371817 | E62: 331898.73 | F62: =E62*70% -> 232329.11 | G62: =E62*15% -> 49784.809 | H62: =E62*15% -> 49784.809 | I62: 7436.34 | J62: 10172.913 | K62: =J62*10% -> 1017.2913 | L62: 22221 | M62: 0 | N62: 169.1345 | O62: 106.7996 | P62: 0.10211375 | Q62: 333.03586 | R62: 70.01879
A63: Powiat częstochowski | B63: 2404064 | C63: Koniecpol | D63: 269946 | E63: 248529.54 | F63: 173970.68 | G63: 37279.431 | H63: 37279.431 | I63: 5398.92 | J63: 7602.9921 | K63: 760.29921 | L63: 0 | M63: 8414.55 | N63: 126.60709 | O63: 79.930298 | P63: 0.076460257 | Q63: 249.35735 | R63: 51.235079
A64: Powiat częstochowski | B64: 2404072 | C64: Konopiska | D64: 289278 | E64: 251987.17 | F64: =E64*70% -> 176391.02 | G64: =E64*15% -> 37798.076 | H64: =E64*15% -> 37798.076 | I64: 5785.56 | J64: 7784.471 | K64: =J64*10% -> 778.4471 | L64: 23814 | M64: 0 | N64: 128.48246 | O64: 81.154773 | P64: 0.077542977 | Q64: 252.86928 | R64: 53.67246
A65: Powiat częstochowski | B65: 2404082 | C65: Kruszyna | D65: 132705 | E65: 126060.46 | F65: =E65*70% -> 88242.322 | G65: =E65*15% -> 18909.069 | H65: =E65*15% -> 18909.069 | I65: 2654.1 | J65: 3857.7344 | K65: =J65*10% -> 385.77344 | L65: 81 | M65: 0 | N65: 64.219484 | O65: 40.543812 | P65: 0.03878289 | Q65: 126.47225 | R65: 25.987598
A66: Powiat częstochowski | B66: 2404092 | C66: Lelów | D66: 135324 | E66: 128679.59 | F66: =E66*70% -> 90075.714 | G66: =E66*15% -> 19301.939 | H66: =E66*15% -> 19301.939 | I66: 2706.48 | J66: 3937.9284 | K66: =J66*10% -> 393.79284 | L66: 0 | M66: 0 | N66: 65.553652 | O66: 41.386074 | P66: 0.039588684 | Q66: 129.09964 | R66: 26.521474
A67: Powiat częstochowski | B67: 2404102 | C67: Mstów | D67: 287145 | E67: 227967.29 | F67: =E67*70% -> 159577.1 | G67: =E67*15% -> 34195.093 | H67: =E67*15% -> 34195.093 | I67: 5742.9 | J67: 6917.323 | K67: =J67*10% -> 691.7323 | L67: 46629 | M67: 0 | N67: 116.15913 | O67: 73.345306 | P67: 0.070120232 | Q67: 228.81969 | R67: 50.355204
A68: Powiat częstochowski | B68: 2404112 | C68: Mykanów | D68: 396684 | E68: 317204.39 | F68: =E68*70% -> 222043.08 | G68: =E68*15% -> 47580.659 | H68: =E68*15% -> 47580.659 | I68: 7933.68 | J68: 9663.2222 | K68: =J68*10% -> 966.32222 | L68: 61938 | M68: 0 | N68: 161.66072 | O68: 102.0868 | P68: 0.09757811 | Q68: 318.38526 | R68: 69.859185
A69: Powiat częstochowski | B69: 2404122 | C69: Olsztyn | D69: 195939 | E69: 135762.21 | F69: =E69*70% -> 95033.55 | G69: =E69*15% -> 20364.332 | H69: =E69*15% -> 20364.332 | I69: 3918.78 | J69: 4138.2317 | K69: =J69*10% -> 413.82317 | L69: 52164 | M69: 0 | N69: 69.237433 | O69: 43.739982 | P69: 0.041763722 | Q69: 136.32873 | R69: 31.758974
A70: Powiat częstochowski | B70: 2404132 | C70: Poczesna | D70: 345114 | E70: 230284.22 | F70: =E70*70% -> 161198.95 | G70: =E70*15% -> 34542.633 | H70: =E70*15% -> 34542.633 | I70: 6902.28 | J70: 7154.2132 | K70: =J70*10% -> 715.42132 | L70: 100926 | M70: 0 | N70: 117.59399 | O70: 74.3417 | P70: 0.070874704 | Q70: 231.28028 | R70: 54.792686
A71: Powiat częstochowski | B71: 2404142 | C71: Przyrów | D71: 105462 | E71: 100283.82 | F71: =E71*70% -> 70198.671 | G71: =E71*15% -> 15042.572 | H71: =E71*15% -> 15042.572 | I71: 2109.24 | J71: 3068.9442 | K71: =J71*10% -> 306.89442 | L71: 0 | M71: 0 | N71: 51.087902 | O71: 32.253393 | P71: 0.030852634 | Q71: 100.61117 | R71: 20.66897
A72: Powiat częstochowski | B72: 2404152 | C72: Rędziny | D72: 271242 | E72: 194556.46 | F72: =E72*70% -> 136189.52 | G72: =E72*15% -> 29183.469 | H72: =E72*15% -> 29183.469 | I72: 5424.84 | J72: 5891.3762 | K72: =J72*10% -> 589.13762 | L72: 65286 | M72: 0 | N72: 99.167914 | O72: 62.629116 | P72: 0.05984047 | Q72: 195.34444 | R72: 44.820893
A73: Powiat częstochowski | B73: 2404162 | C73: Starcza | D73: 76059 | E73: 71070.29 | F73: =E73*70% -> 49749.203 | G73: =E73*15% -> 10660.544 | H73: =E73*15% -> 10660.544 | I73: 1521.18 | J73: 2174.5268 | K73: =J73*10% -> 217.45268 | L73: 1296 | M73: 0 | N73: 36.207443 | O73: 22.859594 | P73: 0.021864902 | Q73: 71.305344 | R73: 14.741778
A74: Powiat kłobucki | B74: 2406014 | C74: Kłobuck | D74: 761103 | E74: 646052.87 | F74: 452237.01 | G74: 96907.931 | H74: 96907.931 | I74: 15222.06 | J74: 20681.508 | K74: 2068.1508 | L74: 25434 | M74: 53788.05 | N74: 330.04244 | O74: 208.68771 | P74: 0.19898808 | Q74: 648.36685 | R74: 135.2146
A75: Powiat kłobucki | B75: 2406024 | C75: Krzepice | D75: 251019 | E75: 232629.77 | F75: 162840.84 | G75: 34894.465 | H75: 34894.465 | I75: 5020.38 | J75: 7304.6529 | K75: 730.46529 | L75: 0 | M75: 6064.2 | N75: 118.68781 | O75: 74.993423 | P75: 0.071615696 | Q75: 233.40893 | R75: 47.983119
A76: Powiat kłobucki | B76: 2406032 | C76: Lipie | D76: 174474 | E76: 165907.33 | F76: =E76*70% -> 116135.13 | G76: =E76*15% -> 24886.099 | H76: =E76*15% -> 24886.099 | I76: 3489.48 | J76: 5077.1934 | K76: =J76*10% -> 507.71934 | L76: 0 | M76: 0 | N76: 84.518695 | O76: 53.3593 | P76: 0.051041915 | Q76: 166.44889 | R76: 34.194287
A77: Powiat kłobucki | B77: 2406042 | C77: Miedźno | D77: 206469 | E77: 196331.37 | F77: =E77*70% -> 137431.96 | G77: =E77*15% -> 29449.706 | H77: =E77*15% -> 29449.706 | I77: 4129.38 | J77: 6008.2479 | K77: =J77*10% -> 600.82479 | L77: 0 | M77: 0 | N77: 100.01771 | O77: 63.144315 | P77: 0.060401969 | Q77: 196.97225 | R77: 40.464827
A78: Powiat kłobucki | B78: 2406052 | C78: Opatów | D78: 185436 | E78: 176331.09 | F78: =E78*70% -> 123431.76 | G78: =E78*15% -> 26449.664 | H78: =E78*15% -> 26449.664 | I78: 3708.72 | J78: 5396.1876 | K78: =J78*10% -> 539.61876 | L78: 0 | M78: 0 | N78: 89.828907 | O78: 56.711803 | P78: 0.05424882 | Q78: 176.90669 | R78: 36.342674
A79: Powiat kłobucki | B79: 2406062 | C79: Panki | D79: 137754 | E79: 130990.28 | F79: =E79*70% -> 91693.195 | G79: =E79*15% -> 19648.542 | H79: =E79*15% -> 19648.542 | I79: 2755.08 | J79: 4008.6414 | K79: =J79*10% -> 400.86414 | L79: 0 | M79: 0 | N79: 66.730793 | O79: 42.12924 | P79: 0.040299574 | Q79: 131.41787 | R79: 26.997718
A80: Powiat kłobucki | B80: 2406072 | C80: Popów | D80: 162972 | E80: 154970.07 | F80: =E80*70% -> 108479.05 | G80: =E80*15% -> 23245.511 | H80: =E80*15% -> 23245.511 | I80: 3259.44 | J80: 4742.4852 | K80: =J80*10% -> 474.24852 | L80: 0 | M80: 0 | N80: 78.946896 | O80: 49.841649 | P80: 0.047677035 | Q80: 155.47594 | R80: 31.940067
A81: Powiat kłobucki | B81: 2406082 | C81: Przystajń | D81: 160947 | E81: 153044.5 | F81: =E81*70% -> 107131.15 | G81: =E81*15% -> 22956.675 | H81: =E81*15% -> 22956.675 | I81: 3218.94 | J81: 4683.5577 | K81: =J81*10% -> 468.35577 | L81: 0 | M81: 0 | N81: 77.965946 | O81: 49.222344 | P81: 0.047084626 | Q81: 153.54408 | R81: 31.543198
A82: Powiat kłobucki | B82: 2406092 | C82: Wręczyca | D82: 475929 | E82: 452560.89 | F82: =E82*70% -> 316792.62 | G82: =E82*15% -> 67884.133 | H82: =E82*15% -> 67884.133 | I82: 9518.58 | J82: 13849.534 | K82: =J82*10% -> 1384.9534 | L82: 0 | M82: 0 | N82: 230.54953 | O82: 145.55314 | P82: 0.13923179 | Q82: 454.03817 | R82: 93.274945
A83: Powiat myszkowski | B83: 2409011 | C83: Myszków | D83: 882738 | E83: 491181.91 | F83: =E83*70% -> 343827.33 | G83: =E83*15% -> 73677.286 | H83: =E83*15% -> 73677.286 | I83: 17654.76 | J83: 16392.445 | K83: =J83*10% -> 1639.2445 | L83: 181008 | M83: 176547.6 | N83: 251.85768 | O83: 159.58058 | P83: 0.1514549 | Q83: 493.62252 | R83: 114.81796
A84: Powiat myszkowski | B84: 2409024 | C84: Koziegłowy | D84: 387882 | E84: 323461.46 | F84: 226423.02 | G84: 48519.219 | H84: 48519.219 | I84: 7757.64 | J84: 9777.2905 | K84: 977.72905 | L84: 46845 | M84: 0 | N84: 164.74751 | O84: 103.99998 | P84: 0.099483718 | Q84: 324.62378 | R84: 70.043431
A85: Powiat myszkowski | B85: 2409032 | C85: Niegowa | D85: 154089 | E85: 146523.23 | F85: =E85*70% -> 102566.26 | G85: =E85*15% -> 21978.485 | H85: =E85*15% -> 21978.485 | I85: 3081.78 | J85: 4483.9899 | K85: =J85*10% -> 448.39899 | L85: 0 | M85: 0 | N85: 74.643793 | O85: 47.124965 | P85: 0.045078336 | Q85: 147.00152 | R85: 30.199133
A86: Powiat myszkowski | B86: 2409042 | C86: Poraj | D86: 294084 | E86: 208926.1 | F86: =E86*70% -> 146248.27 | G86: =E86*15% -> 31338.914 | H86: =E86*15% -> 31338.914 | I86: 5881.68 | J86: 6343.3919 | K86: =J86*10% -> 634.33919 | L86: 73035 | M86: 0 | N86: 106.51363 | O86: 67.275801 | P86: 0.064264424 | Q86: 209.77957 | R86: 48.345694
A87: Powiat myszkowski | B87: 2409054 | C87: Żarki | D87: 224235 | E87: 167914.65 | F87: 117540.26 | G87: 25187.198 | H87: 25187.198 | I87: 4484.7 | J87: 5110.0154 | K87: 511.00154 | L87: 34641 | M87: 12044.7 | N87: 85.575197 | O87: 54.039374 | P87: 0.051652457 | Q87: 168.56792 | R87: 37.131842
A88: Powiat gliwicki | B88: 2405011 | C88: Knurów | D88: 1061640 | E88: 392477.69 | F88: =E88*70% -> 274734.38 | G88: =E88*15% -> 58871.654 | H88: =E88*15% -> 58871.654 | I88: 21232.8 | J88: 18376.988 | K88: =J88*10% -> 1837.6988 | L88: 45981 | M88: 583902 | N88: 206.16457 | O88: 132.32521 | P88: 0.12234013 | Q88: 395.29075 | R88: 86.045499
A89: Powiat gliwicki | B89: 2405021 | C89: Pyskowice | D89: 505008 | E89: 110116.99 | F89: =E89*70% -> 77081.896 | G89: =E89*15% -> 16517.549 | H89: =E89*15% -> 16517.549 | I89: 10100.16 | J89: 5529.8376 | K89: =J89*10% -> 552.98376 | L89: 126927 | M89: 252504 | N89: 58.406838 | O89: 37.68234 | P89: 0.034418841 | Q89: 111.36867 | R89: 32.591903
A90: Powiat gliwicki | B90: 2405032 | C90: Gierałtowice | D90: 305856 | E90: 244724.56 | F90: =E90*70% -> 171307.19 | G90: =E90*15% -> 36708.684 | H90: =E90*15% -> 36708.684 | I90: 6117.12 | J90: 8524.2067 | K90: =J90*10% -> 852.42067 | L90: 15876 | M90: 30585.6 | N90: 125.69392 | O90: 79.711 | P90: 0.075549163 | Q90: 245.66524 | R90: 51.791172
A91: Powiat gliwicki | B91: 2405042 | C91: Pilchowice | D91: 303750 | E91: 235378.91 | F91: =E91*70% -> 164765.24 | G91: =E91*15% -> 35306.837 | H91: =E91*15% -> 35306.837 | I91: 6075 | J91: 8228.5875 | K91: =J91*10% -> 822.85875 | L91: 23787 | M91: 30375 | N91: 120.93755 | O91: 76.710051 | P91: 0.072671563 | Q91: 236.30685 | R91: 50.436348
A92: Powiat gliwicki | B92: 2405052 | C92: Rudziniec | D92: 285930 | E92: 269394.67 | F92: =E92*70% -> 188576.27 | G92: =E92*15% -> 40409.2 | H92: =E92*15% -> 40409.2 | I92: 5718.6 | J92: 8243.3619 | K92: =J92*10% -> 824.33619 | L92: 2673 | M92: 0 | N92: 137.24248 | O92: 86.646931 | P92: 0.082879929 | Q92: 270.28018 | R92: 55.71696
A93: Powiat gliwicki | B93: 2405064 | C93: Sośnicowice | D93: 233793 | E93: 202653.51 | F93: 141857.46 | G93: 30398.026 | H93: 30398.026 | I93: 4675.86 | J93: 6117.9178 | K93: 611.79179 | L93: 5292 | M93: 15017.4 | N93: 103.16804 | O93: 65.108943 | P93: 0.062326095 | Q93: 203.3539 | R93: 42.160783
A94: Powiat gliwicki | B94: 2405074 | C94: Toszek | D94: 257202 | E94: 199993 | F94: 139995.1 | G94: 29998.949 | H94: 29998.949 | I94: 5144.04 | J94: 5953.3113 | K94: 595.33113 | L94: 16119 | M94: 29929.5 | N94: 101.75259 | O94: 64.194839 | P94: 0.061486853 | Q94: 200.73655 | R94: 42.406416
A95: Powiat gliwicki | B95: 2405082 | C95: Wielowieś | D95: 159894 | E95: 141656.49 | F95: =E95*70% -> 99159.543 | G95: =E95*15% -> 21248.474 | H95: =E95*15% -> 21248.474 | I95: 3197.88 | J95: 4326.7316 | K95: =J95*10% -> 432.67316 | L95: 10692 | M95: 0 | N95: 72.175269 | O95: 45.570639 | P95: 0.04357902 | Q95: 142.14403 | R95: 29.969687
A96: Powiat raciborski | B96: 2411011 | C96: Racibórz | D96: 1514268 | E96: 746852.12 | F96: =E96*70% -> 522796.48 | G96: =E96*15% -> 112027.82 | H96: =E96*15% -> 112027.82 | I96: 30285.36 | J96: 31481.632 | K96: =J96*10% -> 3148.1632 | L96: 175770 | M96: 529993.8 | N96: 389.08894 | O96: 277.18255 | P96: 0.23192978 | Q96: 751.11937 | R96: 168.75288
A97: Powiat raciborski | B97: 2411022 | C97: Kornowac | D97: 135324 | E97: 126181.51 | F97: =E97*70% -> 88327.057 | G97: =E97*15% -> 18927.227 | H97: =E97*15% -> 18927.227 | I97: 2706.48 | J97: 3864.8534 | K97: =J97*10% -> 386.48534 | L97: 2511 | M97: 0 | N97: 64.28869 | O97: 248.64859 | P97: 0.038820993 | Q97: 126.59964 | R97: 26.189178
A98: Powiat raciborski | B98: 2411034 | C98: Krzanowice | D98: 158814 | E98: 151016.23 | F98: 105711.36 | G98: 22652.435 | H98: 22652.435 | I98: 3176.28 | J98: 4621.4874 | K98: 462.14874 | L98: 0 | M98: 0 | N98: 76.932678 | O98: 48.570009 | P98: 0.046460623 | Q98: 151.50919 | R98: 31.125162
A99: Powiat raciborski | B99: 2411042 | C99: Krzyżanowice | D99: 308853 | E99: 263429.99 | F99: =E99*70% -> 184400.99 | G99: =E99*15% -> 39514.498 | H99: =E99*15% -> 39514.498 | I99: 6177.06 | J99: 8051.7977 | K99: =J99*10% -> 805.17977 | L99: 31320 | M99: 0 | N99: 134.24543 | O99: 84.770295 | P99: 0.081042705 | Q99: 264.36376 | R99: 56.562236
A100: Powiat raciborski | B100: 2411054 | C100: Kuźnia | D100: 324783 | E100: 301628.67 | F100: 211140.07 | G100: 45244.3 | H100: 45244.3 | I100: 6495.66 | J100: 9228.2733 | K100: 922.82733 | L100: 0 | M100: 7430.4 | N100: 153.65779 | O100: 97.008339 | P100: 0.092796448 | Q100: 302.62788 | R100: 62.177662
A101: Powiat raciborski | B101: 2411062 | C101: Nędza | D101: 198396 | E101: 188654.76 | F101: =E101*70% -> 132058.33 | G101: =E101*15% -> 28298.213 | H101: =E101*15% -> 28298.213 | I101: 3967.92 | J101: 5773.3236 | K101: =J101*10% -> 577.33236 | L101: 0 | M101: 0 | N101: 96.10699 | O101: 60.675353 | P101: 0.058040234 | Q101: 189.27058 | R101: 38.88264
A102: Powiat raciborski | B102: 2411072 | C102: Pietrowice | D102: 187839 | E102: 176970.64 | F102: =E102*70% -> 123879.44 | G102: =E102*15% -> 26545.595 | H102: =E102*15% -> 26545.595 | I102: 3756.78 | J102: 5421.0335 | K102: =J102*10% -> 542.10335 | L102: 1647 | M102: 0 | N102: 90.162665 | O102: 56.925341 | P102: 0.054446901 | Q102: 177.55254 | R102: 36.594707
A103: Powiat raciborski | B103: 2411082 | C103: Rudnik | D103: 139806 | E103: 132941.53 | F103: =E103*70% -> 93059.068 | G103: =E103*15% -> 19941.229 | H103: =E103*15% -> 19941.229 | I103: 2796.12 | J103: 4068.3546 | K103: =J103*10% -> 406.83546 | L103: 0 | M103: 0 | N103: 67.724823 | O103: 42.756802 | P103: 0.040899882 | Q103: 133.37548 | R103: 27.399879
A104: Powiat rybnicki | B104: 2412014 | C104: Czerwionka-Leszczyny | D104: 1133487 | E104: 813396.59 | F104: 569377.61 | G104: 122009.49 | H104: 122009.49 | I104: 22669.74 | J104: 27278.6 | K104: 2727.86 | L104: 39042 | M104: 231125.4 | N104: 416.74313 | O104: 263.92972 | P104: 0.25084137 | Q104: 816.70231 | R104: 171.17531
A105: Powiat rybnicki | B105: 2412022 | C105: Gaszowice | D105: 248940 | E105: 236717.05 | F105: =E105*70% -> 165701.93 | G105: =E105*15% -> 35507.557 | H105: =E105*15% -> 35507.557 | I105: 4978.8 | J105: 7244.154 | K105: =J105*10% -> 724.4154 | L105: 0 | M105: 0 | N105: 120.59151 | O105: 76.133201 | P105: 0.07282675 | Q105: 237.48976 | R105: 48.788506
A106: Powiat rybnicki | B106: 2412032 | C106: Jejkowice | D106: 107730 | E106: 102440.46 | F106: =E106*70% -> 71708.32 | G106: =E106*15% -> 15366.069 | H106: =E106*15% -> 15366.069 | I106: 2154.6 | J106: 3134.943 | K106: =J106*10% -> 313.4943 | L106: 0 | M106: 0 | N106: 52.186567 | O106: 32.947014 | P106: 0.031516131 | Q106: 102.77485 | R106: 21.113464
A107: Powiat rybnicki | B107: 2412042 | C107: Lyski | D107: 256230 | E107: 243649.11 | F107: =E107*70% -> 170554.37 | G107: =E107*15% -> 36547.366 | H107: =E107*15% -> 36547.366 | I107: 5124.6 | J107: 7456.293 | K107: =J107*10% -> 745.6293 | L107: 0 | M107: 0 | N107: 124.12294 | O107: 78.362698 | P107: 0.07495942 | Q107: 244.44444 | R107: 50.217237
A108: Powiat rybnicki | B108: 2412052 | C108: Świerklany | D108: 321732 | E108: 201320.58 | F108: =E108*70% -> 140924.41 | G108: =E108*15% -> 30198.087 | H108: =E108*15% -> 30198.087 | I108: 6434.64 | J108: 6196.5583 | K108: =J108*10% -> 619.65583 | L108: 85212 | M108: 22521.24 | N108: 102.74417 | O108: 64.933022 | P108: 0.061946134 | Q108: 202.22669 | R108: 47.706946
A109: Powiat wodzisławski | B109: 2415011 | C109: Pszów | D109: 385263 | E109: 264301.98 | F109: =E109*70% -> 185011.38 | G109: =E109*15% -> 39645.296 | H109: =E109*15% -> 39645.296 | I109: 7705.26 | J109: 8078.9651 | K109: =J109*10% -> 807.89651 | L109: 8694 | M109: 96315.75 | N109: 134.65557 | O109: 85.016659 | P109: 0.081311263 | Q109: 265.37602 | R109: 55.244293
A110: Powiat wodzisławski | B110: 2415021 | C110: Radlin | D110: 489942 | E110: 310422.35 | F110: =E110*70% -> 217295.65 | G110: =E110*15% -> 46563.353 | H110: =E110*15% -> 46563.353 | I110: 9798.84 | J110: 9509.7742 | K110: =J110*10% -> 950.97742 | L110: 37746 | M110: 122485.5 | N110: 158.22176 | O110: 99.920498 | P110: 0.095505346 | Q110: 311.76833 | R110: 66.896419
A111: Powiat wodzisławski | B111: 2415031 | C111: Rydułtowy | D111: 592056 | E111: 378880.32 | F111: =E111*70% -> 265216.22 | G111: =E111*15% -> 56832.047 | H111: =E111*15% -> 56832.047 | I111: 11841.12 | J111: 12468.699 | K111: =J111*10% -> 1246.8699 | L111: 11529 | M111: 177616.8 | N111: 193.88289 | O111: 122.70712 | P111: 0.1167827 | Q111: 380.53226 | R111: 79.317488
A112: Powiat wodzisławski | B112: 2415041 | C112: Wodzisław | D112: 1329426 | E112: 588271.01 | F112: =E112*70% -> 411789.7 | G112: =E112*15% -> 88240.651 | H112: =E112*15% -> 88240.651 | I112: 26588.52 | J112: 21935.529 | K112: =J112*10% -> 2193.5529 | L112: 94878 | M112: 598241.7 | N112: 303.65861 | O112: 193.09557 | P112: 0.18196843 | Q112: 591.76546 | R112: 129.59524
A113: Powiat wodzisławski | B113: 2415052 | C113: Godów | D113: 359235 | E113: 310943.04 | F113: =E113*70% -> 217660.13 | G113: =E113*15% -> 46641.456 | H113: =E113*15% -> 46641.456 | I113: 7184.7 | J113: 9494.5811 | K113: =J113*10% -> 949.45811 | L113: 31509 | M113: 0 | N113: 158.4397 | O113: 100.04127 | P113: 0.095657437 | Q113: 312.03234 | R113: 66.367232
A114: Powiat wodzisławski | B114: 2415062 | C114: Gorzyce | D114: 557388 | E114: 513226.15 | F114: =E114*70% -> 359258.3 | G114: =E114*15% -> 76983.922 | H114: =E114*15% -> 76983.922 | I114: 11147.76 | J114: 15735.063 | K114: =J114*10% -> 1573.5063 | L114: 17226 | M114: 0 | N114: 261.51248 | O114: 165.12184 | P114: 0.15790296 | Q114: 514.94377 | R114: 107.03117
A115: Powiat wodzisławski | B115: 2415072 | C115: Lubomia | D115: 216243 | E115: 202269.38 | F115: =E115*70% -> 141588.56 | G115: =E115*15% -> 30340.407 | H115: =E115*15% -> 30340.407 | I115: 4324.86 | J115: 6188.8747 | K115: =J115*10% -> 618.88747 | L115: 3537 | M115: 0 | N115: 103.04788 | O115: 65.059273 | P115: 0.062228553 | Q115: 202.93786 | R115: 41.944724
A116: Powiat wodzisławski | B116: 2415082 | C116: Marklowice | D116: 147204 | E116: 111879.46 | F116: =E116*70% -> 78315.619 | G116: =E116*15% -> 16781.918 | H116: =E116*15% -> 16781.918 | I116: 2944.08 | J116: 3528.4799 | K116: =J116*10% -> 352.84799 | L116: 28836 | M116: 0 | N116: 57.146155 | O116: 36.131752 | P116: 0.034446326 | Q116: 112.31771 | R116: 25.164493
... A123: Powiat będziński * | B123: 2401062 | C123: Psary | D123: 315927 | E123: 190848.34 | F123: =E123*70% -> 133593.84 | G123: =E123*15% -> 28627.251 | H123: =E123*15% -> 28627.251 | I123: 6318.54 | J123: 5658.2526 | K123: =J123*10% -> 565.82526 | L123: 113184 | M123: 0 | N123: 97.247967 | O123: 61.407993 | P123: 0.058669887 | Q123: 191.73284 | R123: 47.509405
A124: Powiat będziński * | B124: 2401074 | C124: Siewierz | D124: 330318 | E124: 215681.65 | F124: 150977.15 | G124: 32352.247 | H124: 32352.247 | I124: 6606.36 | J124: 6459.2316 | K124: 645.92316 | L124: 79326 | M124: 22185.9 | N124: 109.88008 | O124: 69.375295 | P124: 0.066320139 | Q124: 216.61256 | R124: 50.213018
A125: Powiat będziński * | B125: 2401081 | C125: Sławków | D125: 191700 | E125: 121894.36 | F125: =E125*70% -> 85326.053 | G125: =E125*15% -> 18284.154 | H125: =E125*15% -> 18284.154 | I125: 3834 | J125: 3669.138 | K125: =J125*10% -> 366.9138 | L125: 33453 | M125: 28755 | N125: 62.098505 | O125: 39.206497 | P125: 0.037486072 | Q125: 122.42641 | R125: 27.580454
A126: Powiat zawierciański | B126: 2416011 | C126: Poręba | D126: 238491 | E126: 186795.69 | F126: =E126*70% -> 130756.98 | G126: =E126*15% -> 28019.354 | H126: =E126*15% -> 28019.354 | I126: 4769.82 | J126: 5666.5462 | K126: =J126*10% -> 566.65462 | L126: 24462 | M126: 16694.37 | N126: 95.155803 | O126: 60.074319 | P126: 0.05745593 | Q126: 187.49481 | R126: 40.289349
A127: Powiat zawierciański | B127: 2416021 | C127: Zawiercie | D127: 1395576 | E127: 771334.86 | F127: =E127*70% -> 539934.4 | G127: =E127*15% -> 115700.23 | H127: =E127*15% -> 115700.23 | I127: 27911.52 | J127: 25539.041 | K127: =J127*10% -> 2553.9041 | L127: 152064 | M127: 418672.8 | N127: 395.08929 | O127: 250.18462 | P127: 0.23778865 | Q127: 775.12466 | R127: 170.904
...
